BEGIN:VCALENDAR
VERSION:2.0
PRODID:-//eventon.com NONSGML v1.0//EN
CALSCALE:GREGORIAN
METHOD:PUBLISH
BEGIN:VEVENT
UID:69e740f98a61f
DTSTAMP:20260421T091849Z
DTSTART:20210123T170000Z
DTEND:20210123T180000Z
LOCATION:
SUMMARY:Naissance et Renaissance\,  Web conférence
DESCRIPTION:\nhttps://powerspaces.com/fr/events/naissance-et-renaissance-we
 b-conference/
URL:https://powerspaces.com/fr/events/naissance-et-renaissance-web-conference/
END:VEVENT
END:VCALENDAR