BEGIN:VCALENDAR
VERSION:2.0
PRODID:-//eventon.com NONSGML v1.0//EN
CALSCALE:GREGORIAN
METHOD:PUBLISH
BEGIN:VEVENT
UID:69e5ee52440d6
DTSTAMP:20260420T091354Z
DTSTART:20210113T000000Z
DTEND:20210113T000000Z
LOCATION:
SUMMARY:Invisible Allies - Time as a Force (en anglais)
DESCRIPTION:é\nhttps://powerspaces.com/fr/events/invisible-allies-time-as-
 a-force-en-anglais/
URL:https://powerspaces.com/fr/events/invisible-allies-time-as-a-force-en-anglais/
END:VEVENT
END:VCALENDAR