BEGIN:VCALENDAR
VERSION:2.0
PRODID:-//eventon.com NONSGML v1.0//EN
CALSCALE:GREGORIAN
METHOD:PUBLISH
BEGIN:VEVENT
UID:69e72fd12700d
DTSTAMP:20260421T080537Z
DTSTART:20200207T180000Z
DTEND:20200207T203000Z
LOCATION:Librairie Folies d&#039;encre
SUMMARY:Aulnay-sous-bois
DESCRIPTION:SIGNATURES &amp; DEDICACES\nhttps://powerspaces.com/fr/events/a
 ulnay-sous-bois/
URL:https://powerspaces.com/fr/events/aulnay-sous-bois/
END:VEVENT
END:VCALENDAR